Workbook

Sheet Cennik
A1: Indeks towaru | B1: Nazwa | C1: jm | D1: Cena
A2: 6820 | B2: Accelerometer 8102A-0200-060 | C2: szt. | D2: 1551.44
A3: 7377 | B3: Monitor LO1068-GD | C3: szt. | D3: 1921.84
A4: / 0049106 | B4: / Przewód 180 SiF 1x0,75 GY | C4: m | D4: 0.35
A5: / 0049009 | B5: / Przewód 180 SiF 1x0,75 OG | C5: m | D5: 0.35
A6: / 0050002 | B6: / Przewód 180 SiF 1x1 BU | C6: m | D6: 1.69
A7: / 4520091 | B7: / Przewód H07V-K 1x1,5 OG | C7: m | D7: 1.57
A8: / 4520022 | B8: / Przewód H07V-K 1x2,5 BU | C8: m | D8: 2.54
A9: / 4520023 | B9: / Przewód H07V-K 1x4 BU | C9: m | D9: 3.9
A10: / 0050001 | B10: / Przewód OLFLEX HEAT 180 SiF 1x1 BK | C10: m | D10: 1.69
A11: / 0050106 | B11: / Przewód OLFLEX HEAT 180 SiF 1x1 GY | C11: m | D11: 1.69
A12: / 0050005 | B12: / Przewód OLFLEX HEAT 180 SiF 1x1 YE | C12: m | D12: 1.69
A13: / 0052104 | B13: / Przewód OLFLEX HEAT 180 SiF 1x2,5 RD | C13: m | D13: 3.59
... A325: 120 | B325: Żyroskop jednoosiowy CRM 100 | C325: szt. | D325: 97

Sheet Oferty 
A1: Data oferty | B1: Numer oferty | C1: Indeks towaru | D1: Nazwa towaru | E1: jm | F1: Cena | G1: ilość | H1: wartość
A2: 42339 | B2: 1/ZZ | C2: 9996 | D2: Laryngofon podwójny z fonowodem | E2: szt. | F2: 173.17 | G2: 15 | H2: 2597.55
A3: 42339 | B3: 2/ZZ | C3: 5362 | D3: SEC - ANS1G2CS (YL) - Antenna 1200MHz | E3: szt. | F3: 400 | G3: 15 | H3: 6000
A4: 42339 | B4: 3/ZZ | C4: 6879 | D4: Złącze 855-M80-8541842 (Mouser) | E4: szt. | F4: 11.2 | G4: 5 | H4: 56
A5: 42339 | B5: 4/ZZ | C5: 6876 | D5: Złącze 855-M80-8880605 (Mouser) | E5: szt. | F5: 11.41 | G5: 15 | H5: 171.15
A6: 42340 | B6: 5/ZZ | C6: 6954 | D6: Eliminator baterii UV-5R | E6: szt. | F6: 40.64 | G6: 13 | H6: 528.32
A7: 42340 | B7: 6/ZZ | C7: 5637 | D7: Końcówka oczkowa;M4; fi:4,3mm;0,3-1,4mm2 | E7: szt. | F7: 0.46 | G7: 12 | H7: 5.52
A8: 42340 | B8: 7/ZZ | C8: 6947 | D8: Wyświetlacz AM-640480G2TNQW-TU0H-A wer. z T/P | E8: szt. | F8: 599.36 | G8: 17 | H8: 10189.12
A9: 42342 | B9: 8/ZZ | C9: 5632 | D9: Końcówka tulejkowa izolowana podwójna | E9: szt. | F9: 0.14 | G9: 7 | H9: 0.98
A10: 42342 | B10: 9/ZZ | C10: 6598 | D10: Obudowa MC-RP001-WHT ENCLOSURE | E10: szt. | F10: 26.74 | G10: 3 | H10: 80.22
A11: 42343 | B11: 10/ZZ | C11: 6394 | D11: Antena transpondera | E11: szt. | F11: 144.44 | G11: 13 | H11: 1877.72
A12: 42343 | B12: 11/ZZ | C12: 5750 | D12: Końcówka oczkowa M3 | E12: 1000 szt | F12: 0.17 | G12: 13 | H12: 2.21
A13: 42343 | B13: 12/ZZ | C13: 5154 | D13: Mikroprzełącznik;bez dźwigni;SPDT;0,1A/125VAC | E13: szt. | F13: 8.03 | G13: 16 | H13: 128.48
... A88: 42369 | B88: 87/ZZ | C88: 5359 | D88: SEC - ANN1G2CS (YL) - Antenna 1200MHz | E88: szt. | F88: 500 | G88: 11 | H88: 5500

Sheet Faktury
A1: Numer faktury | B1: Data faktury | C1: Numer oferty | D1: Indeks towaru | E1: Nazwa towaru | F1: jm | G1: Cena | H1: ilość | I1: wartość
A2: 1/12/MAG3/2015 | B2: 42342 | C2: 6/ZZ | D2: 5637 | E2: Końcówka oczkowa;M4; fi:4,3mm;0,3-1,4mm2 | F2: szt. | G2: 0.46 | H2: 12 | I2: 5.52
A3: 2/12/MAG3/2015 | B3: 42343 | C3: 1/ZZ | D3: 9996 | E3: Laryngofon podwójny z fonowodem | F3: szt. | G3: 173.17 | H3: 15 | I3: 2597.55
A4: 3/12/MAG3/2015 | B4: 42343 | C4: 2/ZZ | D4: 5362 | E4: SEC - ANS1G2CS (YL) - Antenna 1200MHz | F4: szt. | G4: 400 | H4: 15 | I4: 6000
A5: 4/12/MAG3/2015 | B5: 42343 | C5: 7/ZZ | D5: 6947 | E5: Wyświetlacz AM-640480G2TNQW-TU0H-A wer. z T/P | F5: szt. | G5: 599.36 | H5: 17 | I5: 10189.12
A6: 5/12/MAG3/2015 | B6: 42344 | C6: 3/ZZ | D6: 6879 | E6: Złącze 855-M80-8541842 (Mouser) | F6: szt. | G6: 11.2 | H6: 5 | I6: 56
A7: 6/12/MAG3/2015 | B7: 42344 | C7: 5/ZZ | D7: 6954 | E7: Eliminator baterii UV-5R | F7: szt. | G7: 40.64 | H7: 13 | I7: 528.32
A8: 7/12/MAG3/2015 | B8: 42345 | C8: 10/ZZ | D8: 6394 | E8: Antena transpondera | F8: szt. | G8: 144.44 | H8: 13 | I8: 1877.72
A9: 8/12/MAG3/2015 | B9: 42345 | C9: 14/ZZ | D9: 5363 | E9: SEC - KANTT1 - Cabel TNC | F9: szt. | G9: 100 | H9: 5 | I9: 500
A10: 9/12/MAG3/2015 | B10: 42346 | C10: 17/ZZ | D10: 5641 | E10: Rurka termokurczliwa CB-HFT12.7/BOX-BK | F10: rol. | G10: 23.8 | H10: 13 | I10: 309.4
A11: 10/12/MAG3/2015 | B11: 42347 | C11: 8/ZZ | D11: 5632 | E11: Końcówka tulejkowa izolowana podwójna | F11: szt. | G11: 0.14 | H11: 7 | I11: 0.98
A12: 11/12/MAG3/2015 | B12: 42347 | C12: 12/ZZ | D12: 5154 | E12: Mikroprzełącznik;bez dźwigni;SPDT;0,1A/125VAC | F12: szt. | G12: 8.03 | H12: 16 | I12: 128.48
A13: 12/12/MAG3/2015 | B13: 42347 | C13: 13/ZZ | D13: 5157 | E13: Przełącznik:przyciskany;2-pozycyjne;SPST-NO | F13: szt. | G13: 1.56 | H13: 3 | I13: 4.68
... A73: 72/12/MAG3/2015 | B73: 42369 | C73: 78/ZZ | D73: 5645 | E73: Rurka termokurczliwa CB-DWT4.8-3X/1M-BK | F73: m | G73: 5.25 | H73: 6 | I73: 31.5

Sheet badanie ofert
A1: Data oferty | B1: Numer oferty | C1: Indeks towaru | D1: Nazwa towaru | E1: jm | F1: Cena | G1: ilość | H1: wartość | I1: cena cennikowa | J1: zgodność
A2: 42339 | B2: 1/ZZ | C2: 9996 | D2: Laryngofon podwójny z fonowodem | E2: szt. | F2: 173.17 | G2: 15 | H2: 2597.55 | I2: =VLOOKUP(C2,Cennik!$A$2:$D$325,4,0) -> 173.17 | J2: =F2=I2 -> TRUE
A3: 42339 | B3: 2/ZZ | C3: 5362 | D3: SEC - ANS1G2CS (YL) - Antenna 1200MHz | E3: szt. | F3: 400 | G3: 15 | H3: 6000 | I3: =VLOOKUP(C3,Cennik!$A$2:$D$325,4,0) -> 400 | J3: =F3=I3 -> TRUE
A4: 42339 | B4: 3/ZZ | C4: 6879 | D4: Złącze 855-M80-8541842 (Mouser) | E4: szt. | F4: 11.2 | G4: 5 | H4: 56 | I4: =VLOOKUP(C4,Cennik!$A$2:$D$325,4,0) -> 11.2 | J4: =F4=I4 -> TRUE
A5: 42339 | B5: 4/ZZ | C5: 6876 | D5: Złącze 855-M80-8880605 (Mouser) | E5: szt. | F5: 11.41 | G5: 15 | H5: 171.15 | I5: =VLOOKUP(C5,Cennik!$A$2:$D$325,4,0) -> 11.41 | J5: =F5=I5 -> TRUE
A6: 42340 | B6: 5/ZZ | C6: 6954 | D6: Eliminator baterii UV-5R | E6: szt. | F6: 40.64 | G6: 13 | H6: 528.32 | I6: =VLOOKUP(C6,Cennik!$A$2:$D$325,4,0) -> 40.64 | J6: =F6=I6 -> TRUE
A7: 42340 | B7: 6/ZZ | C7: 5637 | D7: Końcówka oczkowa;M4; fi:4,3mm;0,3-1,4mm2 | E7: szt. | F7: 0.46 | G7: 12 | H7: 5.52 | I7: =VLOOKUP(C7,Cennik!$A$2:$D$325,4,0) -> 0.46 | J7: =F7=I7 -> TRUE
A8: 42340 | B8: 7/ZZ | C8: 6947 | D8: Wyświetlacz AM-640480G2TNQW-TU0H-A wer. z T/P | E8: szt. | F8: 599.36 | G8: 17 | H8: 10189.12 | I8: =VLOOKUP(C8,Cennik!$A$2:$D$325,4,0) -> 599.36 | J8: =F8=I8 -> TRUE
A9: 42342 | B9: 8/ZZ | C9: 5632 | D9: Końcówka tulejkowa izolowana podwójna | E9: szt. | F9: 0.14 | G9: 7 | H9: 0.98 | I9: =VLOOKUP(C9,Cennik!$A$2:$D$325,4,0) -> 0.14 | J9: =F9=I9 -> TRUE
A10: 42342 | B10: 9/ZZ | C10: 6598 | D10: Obudowa MC-RP001-WHT ENCLOSURE | E10: szt. | F10: 26.74 | G10: 3 | H10: 80.22 | I10: =VLOOKUP(C10,Cennik!$A$2:$D$325,4,0) -> 26.74 | J10: =F10=I10 -> TRUE
A11: 42343 | B11: 10/ZZ | C11: 6394 | D11: Antena transpondera | E11: szt. | F11: 144.44 | G11: 13 | H11: 1877.72 | I11: =VLOOKUP(C11,Cennik!$A$2:$D$325,4,0) -> 144.44 | J11: =F11=I11 -> TRUE
A12: 42343 | B12: 11/ZZ | C12: 5750 | D12: Końcówka oczkowa M3 | E12: 1000 szt | F12: 0.17 | G12: 13 | H12: 2.21 | I12: =VLOOKUP(C12,Cennik!$A$2:$D$325,4,0) -> 0.17 | J12: =F12=I12 -> TRUE
A13: 42343 | B13: 12/ZZ | C13: 5154 | D13: Mikroprzełącznik;bez dźwigni;SPDT;0,1A/125VAC | E13: szt. | F13: 8.03 | G13: 16 | H13: 128.48 | I13: =VLOOKUP(C13,Cennik!$A$2:$D$325,4,0) -> 8.03 | J13: =F13=I13 -> TRUE
... A88: 42369 | B88: 87/ZZ | C88: 5359 | D88: SEC - ANN1G2CS (YL) - Antenna 1200MHz | E88: szt. | F88: 500 | G88: 11 | H88: 5500 | I88: =VLOOKUP(C88,Cennik!$A$2:$D$325,4,0) -> 500 | J88: =F88=I88 -> TRUE

Sheet badanie faktur
A1: Numer faktury | B1: Data faktury | C1: Numer oferty | D1: Indeks towaru | E1: Nazwa towaru | F1: jm | G1: Cena | H1: ilość | I1: wartość | J1: cena z oferty | K1: zgodność
A2: 1/12/MAG3/2015 | B2: 42342 | C2: 6/ZZ | D2: 5637 | E2: Końcówka oczkowa;M4; fi:4,3mm;0,3-1,4mm2 | F2: szt. | G2: 0.46 | H2: 12 | I2: 5.52 | J2: =VLOOKUP(C2,'Oferty '!$B$2:$H$88,5,0) -> 0.46 | K2: =G2=J2 -> TRUE
A3: 2/12/MAG3/2015 | B3: 42343 | C3: 1/ZZ | D3: 9996 | E3: Laryngofon podwójny z fonowodem | F3: szt. | G3: 173.17 | H3: 15 | I3: 2597.55 | J3: =VLOOKUP(C3,'Oferty '!$B$2:$H$88,5,0) -> 173.17 | K3: =G3=J3 -> TRUE
A4: 3/12/MAG3/2015 | B4: 42343 | C4: 2/ZZ | D4: 5362 | E4: SEC - ANS1G2CS (YL) - Antenna 1200MHz | F4: szt. | G4: 400 | H4: 15 | I4: 6000 | J4: =VLOOKUP(C4,'Oferty '!$B$2:$H$88,5,0) -> 400 | K4: =G4=J4 -> TRUE
A5: 4/12/MAG3/2015 | B5: 42343 | C5: 7/ZZ | D5: 6947 | E5: Wyświetlacz AM-640480G2TNQW-TU0H-A wer. z T/P | F5: szt. | G5: 599.36 | H5: 17 | I5: 10189.12 | J5: =VLOOKUP(C5,'Oferty '!$B$2:$H$88,5,0) -> 599.36 | K5: =G5=J5 -> TRUE
A6: 5/12/MAG3/2015 | B6: 42344 | C6: 3/ZZ | D6: 6879 | E6: Złącze 855-M80-8541842 (Mouser) | F6: szt. | G6: 11.2 | H6: 5 | I6: 56 | J6: =VLOOKUP(C6,'Oferty '!$B$2:$H$88,5,0) -> 11.2 | K6: =G6=J6 -> TRUE
A7: 6/12/MAG3/2015 | B7: 42344 | C7: 5/ZZ | D7: 6954 | E7: Eliminator baterii UV-5R | F7: szt. | G7: 40.64 | H7: 13 | I7: 528.32 | J7: =VLOOKUP(C7,'Oferty '!$B$2:$H$88,5,0) -> 40.64 | K7: =G7=J7 -> TRUE
A8: 7/12/MAG3/2015 | B8: 42345 | C8: 10/ZZ | D8: 6394 | E8: Antena transpondera | F8: szt. | G8: 144.44 | H8: 13 | I8: 1877.72 | J8: =VLOOKUP(C8,'Oferty '!$B$2:$H$88,5,0) -> 144.44 | K8: =G8=J8 -> TRUE
A9: 8/12/MAG3/2015 | B9: 42345 | C9: 14/ZZ | D9: 5363 | E9: SEC - KANTT1 - Cabel TNC | F9: szt. | G9: 100 | H9: 5 | I9: 500 | J9: =VLOOKUP(C9,'Oferty '!$B$2:$H$88,5,0) -> 100 | K9: =G9=J9 -> TRUE
A10: 9/12/MAG3/2015 | B10: 42346 | C10: 17/ZZ | D10: 5641 | E10: Rurka termokurczliwa CB-HFT12.7/BOX-BK | F10: rol. | G10: 23.8 | H10: 13 | I10: 309.4 | J10: =VLOOKUP(C10,'Oferty '!$B$2:$H$88,5,0) -> 23.8 | K10: =G10=J10 -> TRUE
A11: 10/12/MAG3/2015 | B11: 42347 | C11: 8/ZZ | D11: 5632 | E11: Końcówka tulejkowa izolowana podwójna | F11: szt. | G11: 0.14 | H11: 7 | I11: 0.98 | J11: =VLOOKUP(C11,'Oferty '!$B$2:$H$88,5,0) -> 0.14 | K11: =G11=J11 -> TRUE
A12: 11/12/MAG3/2015 | B12: 42347 | C12: 12/ZZ | D12: 5154 | E12: Mikroprzełącznik;bez dźwigni;SPDT;0,1A/125VAC | F12: szt. | G12: 8.03 | H12: 16 | I12: 128.48 | J12: =VLOOKUP(C12,'Oferty '!$B$2:$H$88,5,0) -> 8.03 | K12: =G12=J12 -> TRUE
A13: 12/12/MAG3/2015 | B13: 42347 | C13: 13/ZZ | D13: 5157 | E13: Przełącznik:przyciskany;2-pozycyjne;SPST-NO | F13: szt. | G13: 1.56 | H13: 3 | I13: 4.68 | J13: =VLOOKUP(C13,'Oferty '!$B$2:$H$88,5,0) -> 1.56 | K13: =G13=J13 -> TRUE
... A73: 72/12/MAG3/2015 | B73: 42369 | C73: 78/ZZ | D73: 5645 | E73: Rurka termokurczliwa CB-DWT4.8-3X/1M-BK | F73: m | G73: 5.25 | H73: 6 | I73: 31.5 | J73: =VLOOKUP(C73,'Oferty '!$B$2:$H$88,5,0) -> 5.25 | K73: =G73=J73 -> TRUE
